<?xml version='1.0' encoding='UTF-8'?>
<metadata>
  <idinfo>
    <citation>
      <citeinfo>
        <origin>U.S. Geological Survey</origin>
        <pubdate>20260303</pubdate>
        <title>S1M n2360e1850 20260303</title>
        <geoform>Raster Digital Data Set</geoform>
        <pubinfo>
          <pubplace>Denver, CO</pubplace>
          <publish>U.S. Geological Survey</publish>
        </pubinfo>
        <onlink>https://www.usgs.gov/3d-elevation-program</onlink>
        <onlink>https://apps.nationalmap.gov/downloader/</onlink>
        <lworkcit>
          <citeinfo>
            <origin>U.S. Geological Survey</origin>
            <title>USGS Seamless 1-m DEM (S1M)</title>
            <pubinfo>
              <pubplace>Denver, CO</pubplace>
              <publish>U.S. Geological Survey</publish>
            </pubinfo>
            <onlink>https://doi.org/10.5066/P13LJKFS</onlink>
            <pubdate>2026</pubdate>
          </citeinfo>
        </lworkcit>
      </citeinfo>
    </citation>
    <descript>
      <abstract>To advance the U.S. Geological Survey 3D National Topography Model (3DNTM) including the next generation of the 3D Elevation Program (3DEP) and the 3D Hydrography Program (3DHP), the USGS researched and created a Seamless 1-meter resolution (S1M) Digital Elevation Model (DEM) for the conterminous United States. This dataset is a result of a joint project between the National Geospatial Technical Operations Center (NGTOC) and the Earth Resources Observation and Science Center (EROS) of the USGS National Geospatial Directorate (NGD). Scientists and resource managers can use the S1M data for global change research, hydrologic modeling, resource monitoring, mapping, visualization, and many other applications. A S1M DEM requires merging multiple lidar projects in which the lidar sensor, bare-earth DEM generation methodology, source resolution, datums/projection, unit of measure, and geoid (mean sea level model) can vary between projects. This tile of the Seamless 1-m DEM was created from the best available 3DEP Original Product Resolution source DEMs from one or several intersecting 3DEP data collection projects. Spatially referenced metadata are contained within an open-source GeoPackage that stores footprints for each of the input source DEMs along with source data characteristics. The source DEMs were processed to align vertically to North American Vertical Datum of 1988 (EPSG: 5703) updated to the current GEOID18 model and projected horizontally to North American Datum of 1983 (2011) USA Contiguous Albers Equal Area Conic projection (EPSG: 6350). Horizontal units and elevation values are in meters. Large data voids wider than 10 meters in the tile were backfilled with 1/9 arc-second or 1/3 arc-second DEMs in the 3DEP data repository while small data voids were interpolated across using bilinear interpolation. For tiles containing more than one 3DEP project or with large data voids, up to three blending routines were used: a simple blend, narrow blend, or a backfill blend. The spatial metadata GeoPackage contains information on where backfilling, void interpolation, and blending occurs within the tile. The tile spatial extent is 10 km x 10 km. The S1M DEM is available in a Cloud Optimized Georeferenced Tagged Image File Format (GeoTIFF). The S1M DEM has floating point numeric values and a spatial resolution of one meter. NoData values (areas where data is incomplete due to lack of full data coverage) are represented with the numeric value of -999999.</abstract>
      <purpose>To support the USGS 3D National Topography Model (3DNTM), which includes the next generation of 3DEP and the 3D Hydrography Program, USGS is producing a Seamless 1-m DEM (S1M). The S1M DEM data provide seamless integrated elevation products aligned both vertically and horizontally to a common reference system for the conterminous United States. This data can be critical to various science application studies such as flood risk management, 2D/3D hydrologic modeling, river geomorphology applications, sediment-transport, aquatic habitat restoration, resource management, mapping, visualization, and for analyses of the potential impacts of various climate change scenarios on dynamically changing landscapes</purpose>
      <supplinf>The data obtained through ScienceBase at https://doi.org/10.5066/P13LJKFS are considered the "best available" data from the USGS. For questions on distribution, please refer to the Distribution Section, Contact Information. For processing, please refer to the Data Quality Section, Processing Step, and Contact Information.; {"inventory":"bc5a348e-e90e-70f8-b774-3f0416590470"}</supplinf>
    </descript>
    <timeperd>
      <timeinfo>
        <rngdates>
          <begdate>20240416</begdate>
          <enddate>20240522</enddate>
        </rngdates>
      </timeinfo>
      <current>ground condition</current>
    </timeperd>
    <status>
      <progress>Complete</progress>
      <update>As needed</update>
    </status>
    <spdom>
      <bounding>
        <westbc>-73.24755480979692</westbc>
        <eastbc>-73.1001896229106</eastbc>
        <northbc>42.23495121247232</northbc>
        <southbc>42.126832338234735</southbc>
      </bounding>
    </spdom>
    <keywords>
      <theme>
        <themekt>ISO 19115 Topic Category</themekt>
        <themekey>elevation</themekey>
        <themekey>geoscientificInformation</themekey>
      </theme>
      <theme>
        <themekt>Theme</themekt>
        <themekey>U.S. Geological Survey</themekey>
        <themekey>National Geospatial Directorate (NGD)</themekey>
        <themekey>National Geospatial Program (NGP)</themekey>
        <themekey>3D National Topography Model (3DNTM)</themekey>
        <themekey>3D Elevation Program (3DEP)</themekey>
        <themekey>3D Hydrography Program (3DHP)</themekey>
      </theme>
      <theme>
        <themekt>3D Elevation Program (3DEP)</themekt>
        <themekey>3D Elevation Program</themekey>
        <themekey>3DEP</themekey>
        <themekey>Elevation</themekey>
        <themekey>Grid</themekey>
        <themekey>Lidar</themekey>
        <themekey>Light Detection and Ranging</themekey>
        <themekey>High Resolution</themekey>
        <themekey>Topographic Surface</themekey>
        <themekey>Topography</themekey>
        <themekey>Bare Earth</themekey>
        <themekey>Hydro-Flattened</themekey>
        <themekey>Terrain Elevation</themekey>
        <themekey>Cartography</themekey>
        <themekey>DEM</themekey>
        <themekey>Digital Elevation Model</themekey>
        <themekey>Geographic Information System</themekey>
        <themekey>GIS</themekey>
        <themekey>Digital Mapping</themekey>
        <themekey>Digital Terrain Model</themekey>
        <themekey>Geodata</themekey>
        <themekey>Mapping</themekey>
        <themekey>Raster</themekey>
        <themekey>Seamless 1-m DEM</themekey>
        <themekey>S1M</themekey>
        <themekey>COG</themekey>
        <themekey>Cloud Optimized GeoTIFF</themekey>
      </theme>
      <place>
        <placekt>Geographic Names Information System</placekt>
        <placekey>United States</placekey>
        <placekey>Massachusetts</placekey>
      </place>
      <theme>
        <themekt>The National Map Type Thesaurus</themekt>
        <themekey>Downloadable Data</themekey>
      </theme>
      <theme>
        <themekt>The National Map Theme Thesaurus</themekt>
        <themekey>Elevation</themekey>
      </theme>
      <theme>
        <themekt>The National Map Collection Thesaurus</themekt>
        <themekey>Seamless 1-m DEM (S1M) Current</themekey>
        <themekey>Seamless 1-m DEM (S1M)</themekey>
        <themekey>3D Elevation Program (3DEP)</themekey>
      </theme>
      <theme>
        <themekt>The National Map Product Extent Thesaurus</themekt>
        <themekey>10000 x 10000 meter</themekey>
      </theme>
      <theme>
        <themekt>The National Map Product Format Thesaurus</themekt>
        <themekey>GeoTIFF</themekey>
      </theme>
    </keywords>
    <accconst>Unless otherwise stated, all data, metadata and related materials satisfy the quality standards for which the data were collected. Although these data and associated metadata have been reviewed for accuracy and completeness and approved for release by the U.S. Geological Survey (USGS), no warranty expressed or implied is made regarding the display or utility of the data for other purposes, nor on all computer systems, nor shall the act of distribution constitute any such warranty.</accconst>
    <useconst>Although these data have been processed successfully on a computer system at the U.S. Geological Survey (USGS), no warranty expressed or implied is made regarding the display or utility of the data for other purposes, nor on all computer systems, nor shall the act of distribution constitute any such warranty. The USGS or the U.S. Government shall not be held liable for improper or incorrect use of the data described and/or contained herein.</useconst>
    <ptcontac>
      <cntinfo>
        <cntorgp>
          <cntorg>U.S. Geological Survey - Core Science Systems</cntorg>
        </cntorgp>
        <cntaddr>
          <addrtype>mailing and physical</addrtype>
          <address>Denver Federal Center, DFC Bldg 810</address>
          <city>Lakewood</city>
          <state>CO</state>
          <postal>80225</postal>
          <country>United States of America</country>
        </cntaddr>
        <cntvoice>1-888-392-8545</cntvoice>
        <cntemail>tnm_help@usgs.gov</cntemail>
      </cntinfo>
    </ptcontac>
    <datacred>USGS National Geospatial Program: 3D Elevation Program</datacred>
    <native>For usability, Esri ArcGIS, Esri ArcGIS Pro, Global Mapper, QGIS, Geospatial Data Abstraction Library (GDAL), or equivalent GIS processing software and supporting operating systems are suggested for viewing the S1M DEM GeoTIFF or the spatial metadata GeoPackage. Environment as of Metadata Creation: USGS Metadata Wizard 2.0.8; Esri ArcGIS Pro 3.3.2 Service Pack N/A (Build N/A)</native>
    <crossref>
      <citeinfo>
        <origin>William M. Cushing</origin>
        <origin>Dean J. Tyler</origin>
        <pubdate>20240914</pubdate>
        <title>Mitigating Disparate Elevation Differences between Adjacent Topobathymetric Data Models Using Binary Code</title>
        <geoform>publication</geoform>
        <serinfo>
          <sername>Remote Sensing</sername>
          <issue>vol. 16, issue 18</issue>
        </serinfo>
        <pubinfo>
          <pubplace>n/a</pubplace>
          <publish>MDPI AG</publish>
        </pubinfo>
        <othercit>ppg. 3418</othercit>
        <onlink>https://doi.org/10.3390/rs16183418</onlink>
      </citeinfo>
    </crossref>
    <browse>
      <browsen>https://prd-tnm.s3.amazonaws.com/StagedProducts/Elevation/S1M/n23e18/n2360e1850/S1M_n2360e1850_20260303.jpg</browsen>
      <browsed>Thumbnail JPG image</browsed>
      <browset>JPEG</browset>
    </browse>
  </idinfo>
  <dataqual>
    <attracc>
      <attraccr>No formal attribute accuracy tests were conducted.</attraccr>
    </attracc>
    <logic>All S1M tiles were visually reviewed using shaded relief images at 1:5,000 scale for artifacts with a focus on blend areas between lidar projects.</logic>
    <complete>Data set is considered complete for the information presented, as described in the abstract. Users are advised to read the rest of the metadata record carefully for additional details.</complete>
    <posacc>
      <horizpa>
        <horizpar>The horizontal accuracy for the integrated Seamless 1-m digital elevation model was not assessed quantitatively.</horizpar>
      </horizpa>
      <vertacc>
        <vertaccr>All elevations are referenced to GEOID18. Seamless 1-m (S1M) Vertical Accuracy Assessment: An absolute vertical accuracy assessment was performed that differenced this S1M tile with 3 survey grade checkpoints collected by USGS contractors in the area of interest between 2015 and 2015. Compared to the validation points, the average absolute error is 0.1513 meters. An absolute vertical accuracy assessment was performed that differenced all the S1M tiles that make up the Headwaters Housatonic River Hydrologic Unit 10 with 68 survey grade checkpoints collected by USGS contractors in the area of interest between 2015 and 2024. Compared to the validation points, the overall vertical root mean square error (RMSE) is 0.1118 meters. </vertaccr>
      </vertacc>
    </posacc>
    <lineage>
      <procstep>
        <procdesc>The principal methodology for developing the Seamless 1-m (S1M) digital elevation model (DEM) for each 10 km x 10 km tile can be organized into three steps. Topographic digital elevation data were acquired by the USGS 3D Elevation Program using near-infrared wavelength (1064 nm) topographic lidar by areas referred to as work units. Only lidar projects that were Quality Level 2 (QL2) or better were used as the primary data source. QL2 requires a pulse density of at least two pulses per square meter and a RMSE of better than 10 cm in non-vegetated areas. The first step, “Data Preparation”, gathers the Original Product Resolution Source DEMs and metadata for the integrated terrain model. The product for the first step is a series of DEM Virtual Raster (VRT) mosaics for each lidar work unit with their associated spatial footprints and project metadata. There may be a single VRT if only one lidar project covers the entire tile. These are passed on to the second step, “Data Transformation”. The vertical and horizontal datum and projection information of all input sources must be referenced to North American Vertical Datum of 1988 (NAVD88) (EPSG: 5703) GEOID18 and North American Datum of 1983 (2011) (NAD83 (2011)) USA Contiguous Albers Equal Area Conic projection (EPSG: 6350). If source data were not in native NAVD88-GEOID18, data were transformed to the NAVD88-GEOID18 reference frame using the current National Geodetic Survey (NGS) geoid model grids and a custom EROS developed Geoid2Geoid tool. Likewise, if required, input source data were converted to the NAD83 (2011) datum and re-projected to the USA Contiguous Albers Equal Area Conic coordinate system. The third step, “Integration and Export”, encompasses the spatial assimilation of the topographic data components. To generate the final S1M DEM data, layers are prioritized for integration based on accuracy and the temporal order of collection. Data voids and overlapping project coverage are identified to assist with backfilling and blending. Large data voids, wider than 10 m, are backfilled with 1/9 arc-second or 1/3 arc-second DEMs in the 3DEP data repository while small data voids are interpolated across using bilinear interpolation. For tiles containing more than one 3DEP project or with large data voids, up to three blending routines are used: a simple blend (10 m linear), narrow blend (less than or equal to 10 m overlap between projects), or a backfill blend (50 m slope weighed linear blend). Interpolation rasters for small data voids, backfill rasters for large data voids, and blend rasters are all generated and combined in a VRT mosaic. This void fill and blend VRT is stacked on top of a VRT of all the input OPR Source DEM GeoTIFFs in priority order and exported as one GeoTIFF. The final DEM is clipped to the tile boundary and exported into a Cloud Optimized GeoTIFF with a consistent snap raster, NoData value, and compound coordinate reference system. Spatial metadata and XML metadata is also generated for the DEM. Quality assurance control checks were done for all spatial processing steps by verifying statistics and visual inspection of shaded relief images.</procdesc>
        <procdate>20260303</procdate>
        <proccont>
          <cntinfo>
            <cntorgp>
              <cntorg>U.S. Geological Survey - Core Science Systems</cntorg>
            </cntorgp>
            <cntaddr>
              <addrtype>mailing and physical</addrtype>
              <address>Denver Federal Center, DFC Bldg 810</address>
              <city>Lakewood</city>
              <state>CO</state>
              <postal>80225</postal>
              <country>United States of America</country>
            </cntaddr>
            <cntvoice>1-888-392-8545</cntvoice>
            <cntemail>tnm_help@usgs.gov</cntemail>
          </cntinfo>
        </proccont>
      </procstep>
      <srcinfo>
        <typesrc>Digital and/or Hardcopy</typesrc>
        <srccitea>MA_Western_1_B24</srccitea>
        <srccontr>MA_Western_1_B24 Topographic Lidar</srccontr>
        <srccite>
          <citeinfo>
            <origin>USGS 3DEP</origin>
            <pubdate>20251119</pubdate>
            <title>MA_Western_1_B24 3DEP Lidar-Derived Original Product Resolution Source DEM Collection</title>
            <geoform>raster digital data</geoform>
            <onlink>https://prd-tnm.s3.amazonaws.com/index.html?prefix=StagedProducts/Elevation/OPR/Projects/MA_Western_B24/MA_Western_1_B24</onlink>
          </citeinfo>
        </srccite>
        <srctime>
          <srccurr>ground condition</srccurr>
        </srctime>
      </srcinfo>
    </lineage>
  </dataqual>
  <spdoinfo>
    <direct>Raster</direct>
    <rastinfo>
      <rasttype>Grid Cell</rasttype>
      <rowcount>10000</rowcount>
      <colcount>10000</colcount>
      <vrtcount>1</vrtcount>
    </rastinfo>
  </spdoinfo>
  <spref>
    <horizsys>
      <planar>
        <mapproj>
          <mapprojn>Albers Conical Equal Area</mapprojn>
          <albers>
            <stdparll>29.5</stdparll>
            <stdparll>45.5</stdparll>
            <longcm>-96.0</longcm>
            <latprjo>23.0</latprjo>
            <feast>0.0</feast>
            <fnorth>0.0</fnorth>
          </albers>
        </mapproj>
        <planci>
          <plance>row and column</plance>
          <coordrep>
            <absres>1.0</absres>
            <ordres>1.0</ordres>
          </coordrep>
          <plandu>meters</plandu>
        </planci>
      </planar>
      <geodetic>
        <horizdn>NAD83_National_Spatial_Reference_System_2011</horizdn>
        <ellips>GRS 1980</ellips>
        <semiaxis>6378137.0</semiaxis>
        <denflat>298.257222101</denflat>
      </geodetic>
    </horizsys>
    <vertdef>
      <altsys>
        <altdatum>North American Vertical Datum of 1988</altdatum>
        <altres>0.01</altres>
        <altunits>meters</altunits>
        <altenc>Explicit elevation coordinate included with horizontal coordinates</altenc>
      </altsys>
    </vertdef>
  </spref>
  <eainfo>
    <detailed>
      <enttype>
        <enttypl>S1M_n2360e1850_20260303.tif</enttypl>
        <enttypd>Raster geospatial data file.</enttypd>
        <enttypds>Producer Defined</enttypds>
      </enttype>
      <attr>
        <attrlabl>Value</attrlabl>
        <attrdef>Unique numeric values contained in each raster cell.</attrdef>
        <attrdefs>Producer Defined</attrdefs>
        <attrdomv>
          <edom>
            <edomv>-999999</edomv>
            <edomvd>Areas where data is incomplete due to lack of full data coverage or NoData.</edomvd>
            <edomvds>Producer defined</edomvds>
          </edom>
        </attrdomv>
        <attrdomv>
          <rdom>
            <rdommin>281.13336181641</rdommin>
            <rdommax>592.74694824219</rdommax>
            <attrunit>Meter</attrunit>
            <attrmres>1.0</attrmres>
          </rdom>
        </attrdomv>
      </attr>
    </detailed>
    <overview>
      <eaover>This collection of high-resolution elevation data is available in Cloud Optimized Georeferenced Tagged Image File Format (GeoTIFF). The elevation model has floating point numeric values. Areas where data is incomplete due to lack of full data coverage or NoData are represented with the numeric value of -999999. Spatially referenced metadata is contained within a GeoPackage that contains footprints with accompanying attribute fields for each of the source input areas. The data dictionary for the spatial metadata GeoPackage attributes is available at https://doi.org/10.5066/P13LJKFS </eaover>
      <eadetcit>https://doi.org/10.5066/P13LJKFS</eadetcit>
    </overview>
  </eainfo>
  <distinfo>
    <distrib>
      <cntinfo>
        <cntorgp>
          <cntorg>U.S. Geological Survey</cntorg>
          <cntper>GS ScienceBase</cntper>
        </cntorgp>
        <cntaddr>
          <addrtype>mailing address</addrtype>
          <address>Denver Federal Center, Building 810, Mail Stop 302</address>
          <city>Denver</city>
          <state>CO</state>
          <postal>80225</postal>
          <country>United States</country>
        </cntaddr>
        <cntvoice>1-888-275-8747</cntvoice>
        <cntemail>sciencebase@usgs.gov</cntemail>
      </cntinfo>
    </distrib>
    <distliab>Unless otherwise stated, all data, metadata and related materials are considered to satisfy the quality standards relative to the purpose for which the data were collected. Although these data and associated metadata have been reviewed for accuracy and completeness and approved for release by the U.S. Geological Survey (USGS), no warranty expressed or implied is made regarding the display or utility of the data for other purposes, nor on all computer systems, nor shall the act of distribution constitute any such warranty.</distliab>
    <stdorder>
      <digform>
        <digtinfo>
          <formname>TIFF</formname>
          <transize>316.9686</transize>
        </digtinfo>
        <digtopt>
          <onlinopt>
            <computer>
              <networka>
                <networkr>https://prd-tnm.s3.amazonaws.com/StagedProducts/Elevation/S1M/n23e18/n2360e1850/S1M_n2360e1850_20260303.tif</networkr>
              </networka>
            </computer>
          </onlinopt>
        </digtopt>
      </digform>
      <fees>None</fees>
    </stdorder>
  </distinfo>
  <metainfo>
    <metd>20260304</metd>
    <metc>
      <cntinfo>
        <cntorgp>
          <cntorg>U.S. Geological Survey - Core Science Systems</cntorg>
        </cntorgp>
        <cntaddr>
          <addrtype>mailing and physical</addrtype>
          <address>Denver Federal Center, DFC Bldg 810</address>
          <city>Lakewood</city>
          <state>CO</state>
          <postal>80225</postal>
          <country>United States of America</country>
        </cntaddr>
        <cntvoice>1-888-392-8545</cntvoice>
        <cntemail>tnm_help@usgs.gov</cntemail>
      </cntinfo>
    </metc>
    <metstdn>FGDC Content Standard for Digital Geospatial Metadata</metstdn>
    <metstdv>FGDC-STD-001-1998</metstdv>
    <metextns>
      <onlink>https://prd-tnm.s3.amazonaws.com/index.html?prefix=StagedProducts/Elevation/metadata/MA_Western_B24/MA_Western_1_B24</onlink>
    </metextns>
    <metextns>
      <metprof>spatial metadata</metprof>
      <onlink>https://prd-tnm.s3.amazonaws.com/StagedProducts/Elevation/S1M/n23e18/n2360e1850/S1M_n2360e1850_20260303.gpkg</onlink>
    </metextns>
  </metainfo>
</metadata>
